BEGIN:VCALENDAR
VERSION:2.0
PRODID:-//Germain Academy - ECPv6.15.17.1//NONSGML v1.0//EN
CALSCALE:GREGORIAN
METHOD:PUBLISH
X-WR-CALNAME:Germain Academy
X-ORIGINAL-URL:https://germainacademy.com
X-WR-CALDESC:Events for Germain Academy
REFRESH-INTERVAL;VALUE=DURATION:PT1H
X-Robots-Tag:noindex
X-PUBLISHED-TTL:PT1H
BEGIN:VTIMEZONE
TZID:America/New_York
BEGIN:DAYLIGHT
TZOFFSETFROM:-0500
TZOFFSETTO:-0400
TZNAME:EDT
DTSTART:20240310T070000
END:DAYLIGHT
BEGIN:STANDARD
TZOFFSETFROM:-0400
TZOFFSETTO:-0500
TZNAME:EST
DTSTART:20241103T060000
END:STANDARD
BEGIN:DAYLIGHT
TZOFFSETFROM:-0500
TZOFFSETTO:-0400
TZNAME:EDT
DTSTART:20250309T070000
END:DAYLIGHT
BEGIN:STANDARD
TZOFFSETFROM:-0400
TZOFFSETTO:-0500
TZNAME:EST
DTSTART:20251102T060000
END:STANDARD
BEGIN:DAYLIGHT
TZOFFSETFROM:-0500
TZOFFSETTO:-0400
TZNAME:EDT
DTSTART:20260308T070000
END:DAYLIGHT
BEGIN:STANDARD
TZOFFSETFROM:-0400
TZOFFSETTO:-0500
TZNAME:EST
DTSTART:20261101T060000
END:STANDARD
END:VTIMEZONE
BEGIN:VEVENT
DTSTART;TZID=America/New_York:20251210T080000
DTEND;TZID=America/New_York:20251210T093000
DTSTAMP:20260419T222127
CREATED:20251205T183526Z
LAST-MODIFIED:20251205T183526Z
UID:10002999-1765353600-1765359000@germainacademy.com
SUMMARY:F&I Roundtable – OH\, MI\, AZ
DESCRIPTION:Hosted by Chris Kerby. In-person attendance from Columbus managers\, online participation from Ann Arbor\, Arizona\, and College Hills teammates.
URL:https://germainacademy.com/class/fi-roundtable-oh-mi-az/
LOCATION:Germain Academy Training Center\, 5777 Scarborough Boulevard\, Columbus\, OH\, 43232\, United States
CATEGORIES:Arete Roundtable
GEO:39.9319993;-82.8382295
X-APPLE-STRUCTURED-LOCATION;VALUE=URI;X-ADDRESS=Germain Academy Training Center 5777 Scarborough Boulevard Columbus OH 43232 United States;X-APPLE-RADIUS=500;X-TITLE=5777 Scarborough Boulevard:geo:-82.8382295,39.9319993
END:VEVENT
BEGIN:VEVENT
DTSTART;TZID=America/New_York:20251202T090000
DTEND;TZID=America/New_York:20251202T120000
DTSTAMP:20260419T222127
CREATED:20250805T193109Z
LAST-MODIFIED:20250805T193111Z
UID:10002577-1764666000-1764676800@germainacademy.com
SUMMARY:New Hire Orientation
DESCRIPTION:Welcome to Germain Motor Company! Our New Hire Orientation is a vital half-day course designed to introduce you to the rich history and vibrant culture of our company. In this session\, you will learn about our mission\, core values\, and our operating philosophy\, which focuses on empowering our associates to deliver an exceptional experience one customer at a time. This orientation is essential for all roles and is held weekly to accommodate all new hires\, ensuring everyone has the tools and knowledge to succeed from day one. Join us to start your journey with Germain Motor Company on the right foot!
URL:https://germainacademy.com/class/new-hire-orientation-38-2/2025-12-02/
LOCATION:Germain Academy Training Center\, 5777 Scarborough Boulevard\, Columbus\, OH\, 43232\, United States
CATEGORIES:New Hire Orientation
GEO:39.9319993;-82.8382295
X-APPLE-STRUCTURED-LOCATION;VALUE=URI;X-ADDRESS=Germain Academy Training Center 5777 Scarborough Boulevard Columbus OH 43232 United States;X-APPLE-RADIUS=500;X-TITLE=5777 Scarborough Boulevard:geo:-82.8382295,39.9319993
END:VEVENT
BEGIN:VEVENT
DTSTART;TZID=America/New_York:20251118T090000
DTEND;TZID=America/New_York:20251118T120000
DTSTAMP:20260419T222127
CREATED:20250805T193021Z
LAST-MODIFIED:20251112T164910Z
UID:10002782-1763456400-1763467200@germainacademy.com
SUMMARY:New Hire Orientation
DESCRIPTION:Welcome to Germain Motor Company! Our New Hire Orientation is a vital half-day course designed to introduce you to the rich history and vibrant culture of our company. In this session\, you will learn about our mission\, core values\, and our operating philosophy\, which focuses on empowering our associates to deliver an exceptional experience one customer at a time. This orientation is essential for all roles and is held weekly to accommodate all new hires\, ensuring everyone has the tools and knowledge to succeed from day one. Join us to start your journey with Germain Motor Company on the right foot!
URL:https://germainacademy.com/class/new-hire-orientation-39-2-2/2025-11-18/
LOCATION:Germain Academy Training Center\, 5777 Scarborough Boulevard\, Columbus\, OH\, 43232\, United States
CATEGORIES:New Hire Orientation
GEO:39.9319993;-82.8382295
X-APPLE-STRUCTURED-LOCATION;VALUE=URI;X-ADDRESS=Germain Academy Training Center 5777 Scarborough Boulevard Columbus OH 43232 United States;X-APPLE-RADIUS=500;X-TITLE=5777 Scarborough Boulevard:geo:-82.8382295,39.9319993
END:VEVENT
BEGIN:VEVENT
DTSTART;TZID=America/New_York:20251112T100000
DTEND;TZID=America/New_York:20251112T110000
DTSTAMP:20260419T222127
CREATED:20251104T205322Z
LAST-MODIFIED:20251104T205322Z
UID:10002958-1762941600-1762945200@germainacademy.com
SUMMARY:Access Germain 2.0 Webinar
DESCRIPTION:Join Jackson\, McKay and Zach Graves as we walk through the new and improved Access Germain and answer questions you might have about automated reporting\, calculations\, future features\, and more.
URL:https://germainacademy.com/class/access-germain-2-0-webinar/2025-11-12/
LOCATION:Online Only
CATEGORIES:Management
END:VEVENT
BEGIN:VEVENT
DTSTART;TZID=America/New_York:20251112T080000
DTEND;TZID=America/New_York:20251112T093000
DTSTAMP:20260419T222127
CREATED:20251107T205621Z
LAST-MODIFIED:20251107T205621Z
UID:10002960-1762934400-1762939800@germainacademy.com
SUMMARY:F&I Roundtable – PA\, KY and FL
DESCRIPTION:Hosted by Chris Kerby. In-person attendance from Naples managers\, online participation from PA and KY teammates.
URL:https://germainacademy.com/class/fi-roundtable-pa-ky-and-fl/
LOCATION:Germain Honda of Naples\, 3295 Pine Ridge Rd\, Naples\, FL\, 34109
CATEGORIES:Arete Roundtable
END:VEVENT
BEGIN:VEVENT
DTSTART;TZID=America/New_York:20251111T150000
DTEND;TZID=America/New_York:20251111T160000
DTSTAMP:20260419T222127
CREATED:20251104T205322Z
LAST-MODIFIED:20251104T205322Z
UID:10002957-1762873200-1762876800@germainacademy.com
SUMMARY:Access Germain 2.0 Webinar
DESCRIPTION:Join Jackson\, McKay and Zach Graves as we walk through the new and improved Access Germain and answer questions you might have about automated reporting\, calculations\, future features\, and more.
URL:https://germainacademy.com/class/access-germain-2-0-webinar/2025-11-11/
LOCATION:Online Only
CATEGORIES:Management
END:VEVENT
BEGIN:VEVENT
DTSTART;TZID=America/New_York:20251111T080000
DTEND;TZID=America/New_York:20251111T093000
DTSTAMP:20260419T222127
CREATED:20251107T204503Z
LAST-MODIFIED:20251107T205502Z
UID:10002959-1762848000-1762853400@germainacademy.com
SUMMARY:F&I Roundtable – OH\, MI\, AZ
DESCRIPTION:Hosted by Chris Kerby. In-person attendance from Columbus managers\, online participation from Ann Arbor\, Arizona\, and College Hills teammates.
URL:https://germainacademy.com/class/fi-roundtable-oh-mi-az-2/
LOCATION:Germain Academy Training Center\, 5777 Scarborough Boulevard\, Columbus\, OH\, 43232\, United States
CATEGORIES:Arete Roundtable
GEO:39.9319993;-82.8382295
X-APPLE-STRUCTURED-LOCATION;VALUE=URI;X-ADDRESS=Germain Academy Training Center 5777 Scarborough Boulevard Columbus OH 43232 United States;X-APPLE-RADIUS=500;X-TITLE=5777 Scarborough Boulevard:geo:-82.8382295,39.9319993
END:VEVENT
BEGIN:VEVENT
DTSTART;TZID=America/New_York:20251104T090000
DTEND;TZID=America/New_York:20251104T120000
DTSTAMP:20260419T222127
CREATED:20250805T193109Z
LAST-MODIFIED:20250805T193111Z
UID:10002573-1762246800-1762257600@germainacademy.com
SUMMARY:New Hire Orientation
DESCRIPTION:Welcome to Germain Motor Company! Our New Hire Orientation is a vital half-day course designed to introduce you to the rich history and vibrant culture of our company. In this session\, you will learn about our mission\, core values\, and our operating philosophy\, which focuses on empowering our associates to deliver an exceptional experience one customer at a time. This orientation is essential for all roles and is held weekly to accommodate all new hires\, ensuring everyone has the tools and knowledge to succeed from day one. Join us to start your journey with Germain Motor Company on the right foot!
URL:https://germainacademy.com/class/new-hire-orientation-38-2/2025-11-04/
LOCATION:Germain Academy Training Center\, 5777 Scarborough Boulevard\, Columbus\, OH\, 43232\, United States
CATEGORIES:New Hire Orientation
GEO:39.9319993;-82.8382295
X-APPLE-STRUCTURED-LOCATION;VALUE=URI;X-ADDRESS=Germain Academy Training Center 5777 Scarborough Boulevard Columbus OH 43232 United States;X-APPLE-RADIUS=500;X-TITLE=5777 Scarborough Boulevard:geo:-82.8382295,39.9319993
END:VEVENT
BEGIN:VEVENT
DTSTART;TZID=America/New_York:20251021T090000
DTEND;TZID=America/New_York:20251021T120000
DTSTAMP:20260419T222127
CREATED:20250805T193021Z
LAST-MODIFIED:20251112T164910Z
UID:10002781-1761037200-1761048000@germainacademy.com
SUMMARY:New Hire Orientation
DESCRIPTION:Welcome to Germain Motor Company! Our New Hire Orientation is a vital half-day course designed to introduce you to the rich history and vibrant culture of our company. In this session\, you will learn about our mission\, core values\, and our operating philosophy\, which focuses on empowering our associates to deliver an exceptional experience one customer at a time. This orientation is essential for all roles and is held weekly to accommodate all new hires\, ensuring everyone has the tools and knowledge to succeed from day one. Join us to start your journey with Germain Motor Company on the right foot!
URL:https://germainacademy.com/class/new-hire-orientation-39-2-2/2025-10-21/
LOCATION:Germain Academy Training Center\, 5777 Scarborough Boulevard\, Columbus\, OH\, 43232\, United States
CATEGORIES:New Hire Orientation
GEO:39.9319993;-82.8382295
X-APPLE-STRUCTURED-LOCATION;VALUE=URI;X-ADDRESS=Germain Academy Training Center 5777 Scarborough Boulevard Columbus OH 43232 United States;X-APPLE-RADIUS=500;X-TITLE=5777 Scarborough Boulevard:geo:-82.8382295,39.9319993
END:VEVENT
BEGIN:VEVENT
DTSTART;TZID=America/New_York:20251007T090000
DTEND;TZID=America/New_York:20251007T120000
DTSTAMP:20260419T222127
CREATED:20250805T193109Z
LAST-MODIFIED:20250805T193111Z
UID:10002569-1759827600-1759838400@germainacademy.com
SUMMARY:New Hire Orientation
DESCRIPTION:Welcome to Germain Motor Company! Our New Hire Orientation is a vital half-day course designed to introduce you to the rich history and vibrant culture of our company. In this session\, you will learn about our mission\, core values\, and our operating philosophy\, which focuses on empowering our associates to deliver an exceptional experience one customer at a time. This orientation is essential for all roles and is held weekly to accommodate all new hires\, ensuring everyone has the tools and knowledge to succeed from day one. Join us to start your journey with Germain Motor Company on the right foot!
URL:https://germainacademy.com/class/new-hire-orientation-38-2/2025-10-07/
LOCATION:Germain Academy Training Center\, 5777 Scarborough Boulevard\, Columbus\, OH\, 43232\, United States
CATEGORIES:New Hire Orientation
GEO:39.9319993;-82.8382295
X-APPLE-STRUCTURED-LOCATION;VALUE=URI;X-ADDRESS=Germain Academy Training Center 5777 Scarborough Boulevard Columbus OH 43232 United States;X-APPLE-RADIUS=500;X-TITLE=5777 Scarborough Boulevard:geo:-82.8382295,39.9319993
END:VEVENT
END:VCALENDAR